BEGIN:VCALENDAR
VERSION:2.0
PRODID:-//The Lodge on Lake Detroit - ECPv6.15.20//NONSGML v1.0//EN
CALSCALE:GREGORIAN
METHOD:PUBLISH
X-ORIGINAL-URL:https://thelodgeonlakedetroit.com
X-WR-CALDESC:Events for The Lodge on Lake Detroit
REFRESH-INTERVAL;VALUE=DURATION:PT1H
X-Robots-Tag:noindex
X-PUBLISHED-TTL:PT1H
BEGIN:VTIMEZONE
TZID:UTC
BEGIN:STANDARD
TZOFFSETFROM:+0000
TZOFFSETTO:+0000
TZNAME:UTC
DTSTART:20250101T000000
END:STANDARD
END:VTIMEZONE
BEGIN:VEVENT
DTSTART;TZID=UTC:20260217T190000
DTEND;TZID=UTC:20260217T203000
DTSTAMP:20260422T002113
CREATED:20221124T164923Z
LAST-MODIFIED:20260127T092714Z
UID:8776-1771354800-1771360200@thelodgeonlakedetroit.com
SUMMARY:Mardi Gras Kings at The Historic Holmes Theatre Ballroom
DESCRIPTION:Mardi Gras Kings at The Historic Holmes Theatre Ballroom\nFebruary 17\,  2026 @ 7:00 pm – 8:30 pm\nSpecial Event Discounted Hotel Rate\nPurchase Holmes Theatre Tickets Online Separately\nExperience the thrill of Mardi Gras in our Historic Holmes Theatre on February 17\, 2026\, at 7:00 pm – 8:30 pm! Allow yourself to be carried away to Bourbon Street with the enthralling performances of the Mardi Gras Kings. Brace yourself for a soulful blend of traditional New Orleans melodies and contemporary repertoire. Don’t miss this Holmes Theatre tradition! \nCall Hotel Direct at (218) 847-8439 or . . .\nBOOK HOTEL SPECIAL EVENT RATE ONLINEHolmes Theatre Tickets: $23 Adults & $13 Students\nRESERVE HOLMES THEATRE TICKETSAdditional Details\nHotel rate includes only your hotel accommodations\, event tickets sold directly online by the Historic Holmes Theatre. \nBest Western Rewards Points: Earn 10 Best Western Rewards® points per USD. \n\n										\n										\n										\n									Best Winter & Polar Fest Hotels in Detroit Lakes\, Minnesota\nThe Lodge on Lake Detroit & The Spa Within\nThe only way to improve the Detroit Lakes Polar Fest\, one of Minnesota’s most fun winter festivals\, is to stay in one of the best Polar Fest Hotels in Detroit Lake. Whether your stay is the entire 11-day event\, any of the three weekends or if you are just here for a particular event\, you will find our Detroit Lakes Minnesota lake resort is the perfect setting to relax and recover from all the day’s activities. What better way to unwind after a busy winter Minnesota day than in The Lodge’s beautiful Fireside Lobby and LoLa D’s Lobby Bar & Bistro. Nestled in a lovely tree-filled setting on a private 550 foot wide sandy beach\, you’ll find the latest hotel style and amenities. The Lodge is independently owned and operated by Holland Hospitality\, Inc.\, now in its third generation of providing excellence in hospitality. \nWith our modern amenities and thoughtful design\, we stand out among other lodging choices in Detroit Lakes\, MN. For couples or family getaways\, we offer a variety of rooms and suites with king\, queen or two queen beds. Our free hot breakfast\, indoor heated pool and fitness center make the hotel a great place to recharge between enjoying Detroit Lakes attractions and activities. View hotel detail. \nAll rooms feature lakefront views\, free Wi-Fi and wired internet\, 55″ flat-screen HDTVs. Rooms are equipped with mini-fridge\, microwaves\, and coffee makers and are pet and smoke free. View accommodation detail. \nDetroit Lakes Day Spa: The Spa Within at The Lodge offers an extensive menu of select spa treatment services\, many of which are signature treatments exclusive to this spa. These revitalizing treatments include the use of warm and cold basalt stones for face and body\, and a variety of facials and massage therapies that are sure to induce a state of deep relaxation. \n\nCall Hotel Direct at (218) 847-8439 or book online now!
URL:https://thelodgeonlakedetroit.com/event/mardi-gras-kings-at-the-historic-holmes-theatre-ballroom/
LOCATION:Historic Holmes Theatre\, 806 Summit Ave\, Detroit Lakes\, MN\, 56501\, United States
CATEGORIES:Historic Holmes Theatre Events,Local Non Lodge Event,Polar Fest
ATTACH;FMTTYPE=image/jpeg:https://thelodgeonlakedetroit.com/wp-content/uploads/2022/11/mardi-gras-kings-01-1400x933-1.jpg
END:VEVENT
END:VCALENDAR