BEGIN:VCALENDAR
VERSION:2.0
PRODID:-//The Lodge on Lake Detroit - ECPv6.15.20//NONSGML v1.0//EN
CALSCALE:GREGORIAN
METHOD:PUBLISH
X-WR-CALNAME:The Lodge on Lake Detroit
X-ORIGINAL-URL:https://thelodgeonlakedetroit.com
X-WR-CALDESC:Events for The Lodge on Lake Detroit
REFRESH-INTERVAL;VALUE=DURATION:PT1H
X-Robots-Tag:noindex
X-PUBLISHED-TTL:PT1H
BEGIN:VTIMEZONE
TZID:UTC
BEGIN:STANDARD
TZOFFSETFROM:+0000
TZOFFSETTO:+0000
TZNAME:UTC
DTSTART:20250101T000000
END:STANDARD
END:VTIMEZONE
BEGIN:VEVENT
DTSTART;TZID=UTC:20260212T190000
DTEND;TZID=UTC:20260212T203000
DTSTAMP:20260422T111735
CREATED:20260128T095224Z
LAST-MODIFIED:20260128T095224Z
UID:12964-1770922800-1770928200@thelodgeonlakedetroit.com
SUMMARY:The Peking Acrobats Perform at the Historic Holmes Theatre
DESCRIPTION:The Peking Acrobats® Live at the Historic Holmes Theatre\nFebruary 12\, 2026 @ 7:00 pm – 8:30 pm\nSpecial Event Discounted Hotel Rate\nPurchase Holmes Theatre Tickets Online Separately\nExperience The Peking Acrobats® live on February 12 at the Historic Holmes Theatre in Detroit Lakes. A breathtaking evening of gravity-defying feats\, live music\, and the festive pageantry of a Chinese carnival. \nThis performance at the Historic Holmes Theatre offers a rare opportunity to experience this world‑class production live—an unforgettable evening of awe\, energy\, and artistry for audiences of all ages.\nFor more than three decades\, The Peking Acrobats® have astonished audiences worldwide by elevating Chinese acrobatics into a modern theatrical spectacle that blends ancient tradition with contemporary stagecraft. Direct from the People’s Republic of China\, this elite troupe represents the highest level of physical discipline\, artistic precision\, and cultural storytelling in the acrobatic arts. \nThe performance audiences will experience is a fast‑paced\, visually stunning production featuring gravity‑defying feats of balance\, contortion\, tumbling\, and coordination. Signature acts include towering pagodas of chairs balanced without safety lines\, astonishing foot‑juggling routines\, precision tumbling\, trick cycling\, aerial choreography\, and feats of strength that test the limits of human capability. \nWhat sets The Peking Acrobats apart is not just technical mastery\, but artistic cohesion. The performers are accompanied by live musicians playing traditional Chinese instruments\, creating a rhythmic and emotional soundtrack that merges seamlessly with the choreography. High‑tech lighting\, vibrant costumes\, and dramatic visual effects transform the stage into an atmosphere reminiscent of a Chinese carnival\, combining spectacle\, music\, and motion into a single immersive experience. \nRooted in an acrobatic tradition that dates back over 2\,000 years\, the company’s artistry reflects the Chinese philosophy of harmony between mind and body—where balance\, strength\, and grace are inseparable. Yet this is far from a museum piece. The Peking Acrobats continually evolve their performances\, integrating modern theatrical design while preserving the integrity of the ancient art form. \nCall Hotel Direct at (218) 847-8439 or . . .\nBOOK HOTEL SPECIAL EVENT RATE ONLINEHolmes Theatre Tickets: $26 Adults & $13 Students\nRESERVE HOLMES THEATRE TICKETSAdditional Details\nHotel rate includes only your hotel accommodations\, event tickets sold directly online by the Historic Holmes Theatre. \nBest Western Rewards Points: Earn 10 Best Western Rewards® points per USD. \nAbout the Talent:\nThe Peking Acrobats® \nDirect from the People’s Republic of China\, The Peking Acrobats® emerged in 1986 as an elite touring ensemble dedicated to presenting China’s millennia‑old acrobatic traditions on modern stages worldwide. Their repertoire synthesizes disciplines developed over 2\,000 years—including chair‑stack balancing\, precision tumbling\, contortion\, aerial work\, and trick cycling—into a theatrical production that emphasizes musicality\, pacing\, and visual storytelling. Performances are often accompanied by live musicians on traditional Chinese instruments\, a signature that binds ancient cultural forms to contemporary stagecraft. \nInternational Recognition: Over nearly four decades\, the troupe has made frequent appearances on television and in film\, with credits that include Ocean’s Eleven\, Ocean’s Twelve\, and Ocean’s Thirteen. They have collaborated with major symphony orchestras (from the Hollywood Bowl Orchestra to the Atlanta Symphony) and earned a Guinness World Record on FOX’s Guinness Book Primetime in 1999 for their breathtaking Human Chair Stack—balancing six people atop six chairs\, 21 feet in the air\, without safety lines. These milestones underscore their reputation for combining astonishing athleticism with refined stage presence. \nThe Peking Acrobats® Website | The Peking Acrobats® Facebook Page \n\nBest Hotels in Detroit Lakes\, Minnesota\nThe Lodge on Lake Detroit & The Spa Within\nBest Western Premier The Lodge On Lake Detroit\, a Lifestyle Lakefront Minnesota Hotel\, offers a great location and numerous amenities that make us the premier lakefront lodging destination for Historic Holmes Theatre attendees. See why TripAdvisor Guests rate us Number One in Detroit Lakes. \nThe Lodge on Lake Detroit is an experience\, not just a place to stay. Escape to The Lodge to unwind\, to gather with family and friends\, to be pampered\, to focus on a healthy lifestyle. . . a destination to restore and rekindle your passion for life. Best Western Premier The Lodge on Lake Detroit offers unique amenities and services that aren’t found in a typical hotel. It’s a smoke and pet-free environment\, most rooms offering a walk-in glass enclosed shower instead of a tub/shower\, and artwork from regional artists is found throughout the Minnesota Resorts Hotel. Nestled along a 550 foot lakefront\, all rooms face Big Detroit Lake and feature breathtaking views.
URL:https://thelodgeonlakedetroit.com/event/the-peking-acrobats-perform-at-the-historic-holmes-theatre/
LOCATION:Historic Holmes Theatre\, 806 Summit Ave\, Detroit Lakes\, MN\, 56501\, United States
CATEGORIES:Historic Holmes Theatre Events,Historic Holmes Tribute Series,Local Non Lodge Event,Polar Fest
ATTACH;FMTTYPE=image/jpeg:https://thelodgeonlakedetroit.com/wp-content/uploads/2026/01/lodge-peking-acrobats-wLogo01-1400x933-1.jpg
END:VEVENT
END:VCALENDAR