BEGIN:VCALENDAR
VERSION:2.0
PRODID:-//The Lodge on Lake Detroit - ECPv6.15.20//NONSGML v1.0//EN
CALSCALE:GREGORIAN
METHOD:PUBLISH
X-ORIGINAL-URL:https://thelodgeonlakedetroit.com
X-WR-CALDESC:Events for The Lodge on Lake Detroit
REFRESH-INTERVAL;VALUE=DURATION:PT1H
X-Robots-Tag:noindex
X-PUBLISHED-TTL:PT1H
BEGIN:VTIMEZONE
TZID:UTC
BEGIN:STANDARD
TZOFFSETFROM:+0000
TZOFFSETTO:+0000
TZNAME:UTC
DTSTART:20180101T000000
END:STANDARD
END:VTIMEZONE
BEGIN:VEVENT
DTSTART;TZID=UTC:20191121T193000
DTEND;TZID=UTC:20191121T213000
DTSTAMP:20260425T135829
CREATED:20191111T201414Z
LAST-MODIFIED:20191112T213036Z
UID:3596-1574364600-1574371800@thelodgeonlakedetroit.com
SUMMARY:Andrew Walesch Celebrates Sinatra at The Historic Holmes Theatre
DESCRIPTION:Upcoming Events at Historic Holmes Theatre \n“Andrew Walesch Celebrates Sinatra at The Historic Holmes Theatre” \nNovember 21 @ 7:30 pm – 9:30 pm \nJoin Andrew Walesch and his big band as they take you on a journey through time. Hear your favorite Sinatra tunes like New York\, New York\, Fly Me To The Moon\, and more! Like a good many before him\, singer and pianist Andrew Walesch manages to encapsulate the sophistication of a cosmopolite and the self-effacing charm of a country boy. \nTheatre Experience Package Overview \nYour package includes your room and two tickets to Andrew Walesch Big Band Celebrates Sinatra. Thursday November 21st from 7:30 to 9:30 PM. Historic Holmes Theatre\, 806 Summit Ave\, Detroit Lakes\, MN. \nAdditional Package Details \nTwo tickets to Historic Holmes Theatre to see Andrew Walesch Big Band Celebrates Sinatra per room \nSeason Information \nValid on November 21st\, 2019 only. \nScheduling Requirements \nPlease be sure to include best phone number to reach you so that we can reserve your tickets for the show. Tickets will be available under WILL CALL at the box office the night of the show. \nBest Western Rewards Points \nEarn 10 Best Western Rewards® points per USD. \nDisclaimer \nALL SALES ARE FINAL. There are no refunds\, exchanges\, or credits. Latecomers will be seated at the discretion of the management. Package is based on availability of tickets at the theater. \nCall Hotel Direct at (218) 847-8439 or book online now! \n\n										\n										\n										\n									Hotels Near The Historic Holmes Theatre \nThe Lodge on Lake Detroit & The Spa Within \nBest Western Premier The Lodge On Lake Detroit\, a Lifestyle Lakefront Minnesota Hotel\, offers a great location and numerous amenities that make us the premier lakefront lodging destination for Historic Holmes Theatre attendees. See why TripAdvisor Guests rate us Number One in Detroit Lakes. \nThe Lodge on Lake Detroit is an experience\, not just a place to stay. Escape to The Lodge to unwind\, to gather with family and friends\, to be pampered\, to focus on a healthy lifestyle. . . a destination to restore and rekindle your passion for life. Best Western Premier The Lodge on Lake Detroit offers unique amenities and services that aren’t found in a typical hotel. It’s a smoke and pet-free environment\, most rooms offering a walk-in glass enclosed shower instead of a tub/shower\, and artwork from regional artists is found throughout the Minnesota Resorts Hotel. Nestled along a 550 foot lakefront\, all rooms face Big Detroit Lake and feature breathtaking views.
URL:https://thelodgeonlakedetroit.com/event/andrew-walesch-celebrates-sinatra-at-the-historic-holmes-theatre/
LOCATION:Historic Holmes Theatre\, 806 Summit Ave\, Detroit Lakes\, MN\, 56501\, United States
CATEGORIES:Historic Holmes Theatre Events
ATTACH;FMTTYPE=image/jpeg:https://thelodgeonlakedetroit.com/wp-content/uploads/2019/11/andrew-walesch-big-band-1400x800.jpg
END:VEVENT
BEGIN:VEVENT
DTSTART;TZID=UTC:20191116T193000
DTEND;TZID=UTC:20191116T210000
DTSTAMP:20260425T135829
CREATED:20191111T174630Z
LAST-MODIFIED:20191112T213043Z
UID:3549-1573932600-1573938000@thelodgeonlakedetroit.com
SUMMARY:John McEuen at The Historic Holmes Theatre
DESCRIPTION:Upcoming Events at Historic Holmes Theatre \n“John McEuen & the String Wizards” \nNovember 16 @ 7:30 pm – 9:30 pm \nNitty Gritty Dirt Band’s John McEuen has assembled a unique cast for a special night to share the music and memories of the landmark Will the Circle Be Unbroken platinum album and the Nitty Gritty Dirt Band’s incredible career. His multi-media show with archival photographs\, film\, Circle session photos\, narrative and music of early NGDB including 8mm footage from 1967 takes us on their incredible journey – interwoven with Dirt Band favorites\, hot bluegrass\, rare early NGDB music. \nTheatre Experience Package Overview \nYour package includes your room and two tickets to John McEuen and the String Wizards. Saturday November 16th from 7:30 to 9:30 PM. Historic Holmes Theatre\, 806 Summit Ave\, Detroit Lakes\, MN. \nAdditional Package Details \nTwo tickets to Historic Holmes Theatre to see John McEuen and the String Wizards per room \nSeason Information \nValid on November 16th\, 2019 only. \nScheduling Requirements \nPlease be sure to include best phone number to reach you so that we can reserve your tickets for the show. Tickets will be available under WILL CALL at the box office the night of the show. \nBest Western Rewards Points \nEarn 10 Best Western Rewards® points per USD. \nDisclaimer \nALL SALES ARE FINAL. There are no refunds\, exchanges\, or credits. Latecomers will be seated at the discretion of the management. Package is based on availability of tickets at the theater. \nCall Hotel Direct at (218) 847-8439 or book online now! \n\n										\n										\n										\n									Hotels Near The Historic Holmes Theatre \nThe Lodge on Lake Detroit & The Spa Within \nBest Western Premier The Lodge On Lake Detroit\, a Lifestyle Lakefront Minnesota Hotel\, offers a great location and numerous amenities that make us the premier lakefront lodging destination for Historic Holmes Theatre attendees. See why TripAdvisor Guests rate us Number One in Detroit Lakes. \nThe Lodge on Lake Detroit is an experience\, not just a place to stay. Escape to The Lodge to unwind\, to gather with family and friends\, to be pampered\, to focus on a healthy lifestyle. . . a destination to restore and rekindle your passion for life. Best Western Premier The Lodge on Lake Detroit offers unique amenities and services that aren’t found in a typical hotel. It’s a smoke and pet-free environment\, most rooms offering a walk-in glass enclosed shower instead of a tub/shower\, and artwork from regional artists is found throughout the Minnesota Resorts Hotel. Nestled along a 550 foot lakefront\, all rooms face Big Detroit Lake and feature breathtaking views.
URL:https://thelodgeonlakedetroit.com/event/john-mceuen-at-the-historic-holmes-theatre/
LOCATION:Historic Holmes Theatre\, 806 Summit Ave\, Detroit Lakes\, MN\, 56501\, United States
CATEGORIES:Historic Holmes Theatre Events
ATTACH;FMTTYPE=image/jpeg:https://thelodgeonlakedetroit.com/wp-content/uploads/2019/11/john-mceuen-strings-wizards-1400x800.jpg
END:VEVENT
END:VCALENDAR