BEGIN:VCALENDAR
VERSION:2.0
PRODID:-//The Lodge on Lake Detroit - ECPv6.15.20//NONSGML v1.0//EN
CALSCALE:GREGORIAN
METHOD:PUBLISH
X-ORIGINAL-URL:https://thelodgeonlakedetroit.com
X-WR-CALDESC:Events for The Lodge on Lake Detroit
REFRESH-INTERVAL;VALUE=DURATION:PT1H
X-Robots-Tag:noindex
X-PUBLISHED-TTL:PT1H
BEGIN:VTIMEZONE
TZID:UTC
BEGIN:STANDARD
TZOFFSETFROM:+0000
TZOFFSETTO:+0000
TZNAME:UTC
DTSTART:20200101T000000
END:STANDARD
END:VTIMEZONE
BEGIN:VEVENT
DTSTART;TZID=UTC:20260207T100000
DTEND;TZID=UTC:20260208T160000
DTSTAMP:20260419T185119
CREATED:20260127T131235Z
LAST-MODIFIED:20260127T131452Z
UID:12926-1770458400-1770566400@thelodgeonlakedetroit.com
SUMMARY:Polar Fest DL Pond Hockey Classic
DESCRIPTION:BOOK NOWCALL NOW\n2026 Polar Fest DL Pond Hockey Classic\n2026 Polar Fest DL Pond Hockey Classic\nJoin us for the Annual Polar Fest DL Pond Hockey Classic on February 7-8\, 2026 on Little Detroit Lake in front of Hub41/Pavillion. Nothing quite represents the State of Hockey better than a pick-up game on a frozen pond! Assemble your team of 8 skaters and register for the DL Pond Hockey Classic and see how you measure up to the others! \nTournament Location\nLittle Detroit Lake in front of Hub41/Pavillion \nTournament Contacts\ninfo@DLpondhockey.org\nFace Book Page \nEvent Schedule:\nFriday\, February 6\nRegistration and welcome event \nSaturday\, February 7\nPool play/round robin (3 games per team)\nFirst game time: 9am\nLast game time: 3pm \nSunday\, February 8\nSingle-elimination tournament OR 4 team final + consolation games\nFirst game time: 9am\nChampionship game time: 3pm \nRegistration:\n\n$40/player\n$250/team\nRegister Online\n\nHockey Rules & Regulations:\n\nGame play is 4-on-4 with a maximum of eight-person teams (no goalies).\nRinks measure approx. 70′ x 140′ with 18” boards.Goals are six feet wide with 12″ openings on each side.\nIn true pond fashion\, the ice is to be shoveled by the two opposing teams before the game starts.\nGames consist of two 15-minute halves with a two-minute break.\nEach team will be guaranteed four games.\n\nMark your calendar today so you don’t miss the next Polar Fest DL Pond Hockey Classic in Detroit Lakes\, Minnesota in February. Be sure to enjoy other Detroit Lakes Polar Fest events as well! \nTags: Detroit Lakes Pond Hockey Tournament\, Detroit Lakes Polar Fest\, DL Pond Hockey Classic\, Detroit Lakes Winter Activities \nDL Pond Hockey Classic\nThe DL Pond Hockey Classic is a tournament presented by DL Pond Hockey\, a 501(c)(3) nonprofit dedicated to keeping the spirit and tradition of pond hockey alive in Northern Minnesota. DL Pond Hockey Classic website. \nAbout Detroit Lakes Polar Fest\nDetroit Lakes Polar Fest is is a 17-day winter festival that features a multitude of outdoor winter activities. It is held in early and mid-February with the plunge and fireworks on the last Saturday night of Polar Fest. Polar Fest was started in 1996 by Erika Johnson\, previous owner of Lakeside Tavern. She loved winter and wanted to see some sort of celebration of winter by the lake and outside her restaurant. Coincidentally\, Ron Zeman\, former Develop DL board member\, heard of people jumping into a hole in the lake to raise money for an organization. He took that idea to the Boys & Girls Club and the “Polar Fest Plunge” was born. Unfortunately\, in 2002 a lack of support left Polar Fest with only its key event\, the Polar Plunge. \nIn 2005\, a group of crazy\, winter-loving citizens came together to reinvigorate and warm up Polar Fest. Since then\, Polar Fest has since continued with the pinnacle event being the Polar Fest Plunge into Little Detroit Lake. However\, many other activities including golfing on the lake\, polar explorer presentations\, dances and more have been added. In 2008\, fireworks on the last Saturday evening were added\, becoming one of the highlights of the week-long winter celebration. Don’t miss one of Minnesota’s most fun winter festivals! \n\nMark your calendar today so you don’t miss the next Lakes Curling Club Vern Turner Memorial Bonspiel in Detroit Lakes\, Minnesota in February. Be sure to enjoy other Detroit Lakes Polar Fest events as well! \nTags: Detroit Lakes Curling Tournament\, Detroit Lakes Polar Fest\, Vern Turner Memorial Bonspiel\, Detroit Lakes Winter Activities \n\nBest Polar Fest Hotels in Detroit Lakes\, Minnesota\nThe Lodge on Lake Detroit & The Spa Within\nThe only way to improve Polar Fest is staying in one of the best Polar Fest Hotels in Detroit Lakes. However long your stay\, you will find our Detroit Lakes Minnesota lake resort the perfect place to unwind after a busy day. What better way to relax than in The Lodge’s beautiful Fireside Lobby and LoLa D’s Lobby Bar & Bistro? Nestled in a lovely tree-filled setting on a private sandy beach\, you’ll find the latest hotel style and amenities. The Lodge is independently owned and operated by Holland Hospitality\, Inc.\, now providing a generation of hospitality excellence. \nWith our modern amenities and thoughtful design\, we stand out among other lodging choices in Detroit Lakes\, MN. For couples or family getaways\, we offer a variety of rooms and suites with king\, queen or two queen beds. Our free daily hot breakfast\, indoor heated pool and fitness center make the hotel a great place to recharge between enjoying Detroit Lakes attractions and activities. View Hotel Detail \nYour room features lakefront views\, free Wi-Fi and wired internet\, flat-screen TVs with extended channels. It is also equipped with mini-fridge\, microwave\, and coffee maker\, and is pet and smoke free. View accommodation detail. \nDetroit Lakes Day Spa: You will experience extensive menu of select spa treatment services at The Spa Within at The Lodge\, many of which are exclusive signature treatments. A variety of facials and massage therapies will provide you a deeply relaxed state as part of your spa experience. Some of these revitalizing treatments include the use of warm and cold basalt stones for face and body.
URL:https://thelodgeonlakedetroit.com/event/polar-fest-dl-pond-hockey-classic/
LOCATION:Little Detroit Lake (in front of Hub 41/Pavillion)\, 104 West Lake Drive\, Detroit Lakes\, 56501\, United States
CATEGORIES:All Lodge Events,Annual Evemts,Bonspiels,Local Non Lodge Event,Polar Fest
ATTACH;FMTTYPE=image/jpeg:https://thelodgeonlakedetroit.com/wp-content/uploads/2026/01/lodge-detroit-lakes-polar-fest-DL-Pond-Classic-02-1400x933.jpg.jpg
ORGANIZER;CN="DL Pond Hockey":MAILTO:info@DLpondhockey.org
END:VEVENT
BEGIN:VEVENT
DTSTART;TZID=UTC:20260206T160000
DTEND;TZID=UTC:20260208T160000
DTSTAMP:20260419T185119
CREATED:20201229T150756Z
LAST-MODIFIED:20260127T000527Z
UID:5480-1770393600-1770566400@thelodgeonlakedetroit.com
SUMMARY:Lakes Curling Club Vern Turner Memorial Bonspiel
DESCRIPTION:BOOK NOWCALL NOW\n2026 Vern Turner Memorial Bonspiel\nLakes Curling Club ~ Detroit Lakes\, Minnesota\n2026 Vern TurnerMemorial Bonspiel\nLakes Curling Club\nJoin us for the Annual Vern Turner Memorial Bonspiel on February 6-8\, 2026 at the Lakes Curling Club. As curling is a winter sport whose popularity is growing rapidly\, the Vern Turner Memorial Bonspiel has become an increasingly important part of the annual Detroit Lakes Polar Fest event. \nThe Vern Turner Memorial Bonspiel is a large curling tournament that attracts top teams from across the region. The tournament features a very festive atmosphere in the clubhouse that contributes the overall experience of the event. If you’ve never seen curling or are interested in the sport\, come out and watch for a while\, even if you’re not playing! To register a team\, visit www.lakescurling.com or if you want more info\, email lakescurling@lakescurling.com or call 701-261-5708 and they will be happy to help. There is no fee to watch the bonspiel and spectators are always welcome! \nCurling Tournament Location\nLakes Curling Club\n506 US Highway 59\nDetroit Lakes\, MN 56501 \nBrian Retz brianretz35@gmail.com\nTournament Contacts\nBruce Bryngelson 701-412-7375 cowboys@arvig.net\nmattrishovd284@gmail.com\nLakes Curling Club Face Book Page \nVern Turner Memorial Bonspiel Participant Features:\n\n$300 (U.S.) per Team or Canadian payback paid in the same currency.​\nCash Prizes for Each Event.\nFREE $10.00 Meal Ticket for Each Participant.\nChampion’s entry fee will be paid for at the next year’s Bonspiel.\nAdditional Prize Money & Games of Chance\nFREE Refreshments!\n\nVern Turner Memorial Bonspiel Registration:\n\nRegister Online\nPayment due at time of registration.\n30 Day Notice of cancellation for full refund.\n\nVern Turner Memorial Bonspiel Participant Details & Registration\n \nPhoto Credit: Lakes Curling Club\nAbout Lakes Curling Club\nThe Lakes Curling Club provides recreational opportunities for all curlers in the Detroit Lakes area. As such\, it is dedicated to promoting and coordinating the sport of curling to provide fun\, fellowship and family activities within Detroit Lakes and surrounding communities. The Club was founded in March 25\, 1980\, starting with thirty Charter Members\, which included Officers and Board of Directors. The Club sponsors leagues that compete three times weekly\, several bonspeils (curling tournaments)\, Community Ed Classes\, and other special events that include Youth Curling Lakes Curling Club website. \nMark your calendar today so you don’t miss the next Lakes Curling Club Vern Turner Memorial Bonspiel in Detroit Lakes\, Minnesota in February. Be sure to enjoy other Detroit Lakes Polar Fest events as well! \nTags: Detroit Lakes Curling Tournament\, Detroit Lakes Polar Fest\, Vern Turner Memorial Bonspiel\, Detroit Lakes Winter Activities \nAbout Lakes Curling Club\nThe Lakes Curling Club provides recreational opportunities for all curlers in the Detroit Lakes area. As such\, it is dedicated to promoting and coordinating the sport of curling to provide fun\, fellowship and family activities within Detroit Lakes and surrounding communities. The Club was founded in March 25\, 1980\, starting with thirty Charter Members\, which included Officers and Board of Directors. The Club sponsors leagues that compete three times weekly\, several bonspeils (curling tournaments)\, Community Ed Classes\, and other special events that include Youth Curling Lakes Curling Club website. \nAbout Detroit Lakes Polar Fest\nDetroit Lakes Polar Fest is is a 17-day winter festival that features a multitude of outdoor winter activities. It is held in early and mid-February with the plunge and fireworks on the last Saturday night of Polar Fest. Polar Fest was started in 1996 by Erika Johnson\, previous owner of Lakeside Tavern. She loved winter and wanted to see some sort of celebration of winter by the lake and outside her restaurant. Coincidentally\, Ron Zeman\, former Develop DL board member\, heard of people jumping into a hole in the lake to raise money for an organization. He took that idea to the Boys & Girls Club and the “Polar Fest Plunge” was born. Unfortunately\, in 2002 a lack of support left Polar Fest with only its key event\, the Polar Plunge. \nIn 2005\, a group of crazy\, winter-loving citizens came together to reinvigorate and warm up Polar Fest. Since then\, Polar Fest has since continued with the pinnacle event being the Polar Fest Plunge into Little Detroit Lake. However\, many other activities including golfing on the lake\, polar explorer presentations\, dances and more have been added. In 2008\, fireworks on the last Saturday evening were added\, becoming one of the highlights of the week-long winter celebration. Don’t miss one of Minnesota’s most fun winter festivals! \n\nMark your calendar today so you don’t miss the next Lakes Curling Club Vern Turner Memorial Bonspiel in Detroit Lakes\, Minnesota in February. Be sure to enjoy other Detroit Lakes Polar Fest events as well! \nTags: Detroit Lakes Curling Tournament\, Detroit Lakes Polar Fest\, Vern Turner Memorial Bonspiel\, Detroit Lakes Winter Activities \n\nBest Polar Fest Hotels in Detroit Lakes\, Minnesota\nThe Lodge on Lake Detroit & The Spa Within\nThe only way to improve Polar Fest is staying in one of the best Polar Fest Hotels in Detroit Lakes. However long your stay\, you will find our Detroit Lakes Minnesota lake resort the perfect place to unwind after a busy day. What better way to relax than in The Lodge’s beautiful Fireside Lobby and LoLa D’s Lobby Bar & Bistro? Nestled in a lovely tree-filled setting on a private sandy beach\, you’ll find the latest hotel style and amenities. The Lodge is independently owned and operated by Holland Hospitality\, Inc.\, now providing a generation of hospitality excellence. \nWith our modern amenities and thoughtful design\, we stand out among other lodging choices in Detroit Lakes\, MN. For couples or family getaways\, we offer a variety of rooms and suites with king\, queen or two queen beds. Our free daily hot breakfast\, indoor heated pool and fitness center make the hotel a great place to recharge between enjoying Detroit Lakes attractions and activities. View Hotel Detail \nYour room features lakefront views\, free Wi-Fi and wired internet\, flat-screen TVs with extended channels. It is also equipped with mini-fridge\, microwave\, and coffee maker\, and is pet and smoke free. View accommodation detail. \nDetroit Lakes Day Spa: You will experience extensive menu of select spa treatment services at The Spa Within at The Lodge\, many of which are exclusive signature treatments. A variety of facials and massage therapies will provide you a deeply relaxed state as part of your spa experience. Some of these revitalizing treatments include the use of warm and cold basalt stones for face and body.
URL:https://thelodgeonlakedetroit.com/event/lakes-curling-club-vern-turner-memorial-bonspiel/
LOCATION:Lakes Curling Club\, 506 US Highway 59\, Detroit Lakes\, MN\, 56501\, United States
CATEGORIES:All Lodge Events,Annual Evemts,Bonspiels,Local Non Lodge Event,Polar Fest
ATTACH;FMTTYPE=image/jpeg:https://thelodgeonlakedetroit.com/wp-content/uploads/2020/12/Detroit-Lakes-Curling-Team-01-1400x933-2.jpg
ORGANIZER;CN="Lakes Curling Club":MAILTO:https://thelodgeonlakedetroit.com/lakes-curling-club/
END:VEVENT
BEGIN:VEVENT
DTSTART;TZID=UTC:20260201T120000
DTEND;TZID=UTC:20260222T160000
DTSTAMP:20260419T185119
CREATED:20230219T201631Z
LAST-MODIFIED:20260127T120924Z
UID:9344-1769947200-1771776000@thelodgeonlakedetroit.com
SUMMARY:Snowshoe Sundays at Tamarac National Wildlife Refuge
DESCRIPTION:BOOK NOWCALL NOW\n2026 Snowshoe Sundays at Tamarac\nNational Wildlife Refuge\nSUNDAYS: February 1 – 22\, 2026\n2026 Snowshoe Sundays at Tamarac\nNational Wildlife Refuge\nSUNDAYS: February 1 – 22\, 2026\nJoin the fun for Snowshoe Sundays at Tamarac National Wildlife Refuge in Rochert\, Minnesota every Sunday in February from 12p – 4 p. Free snowshoe rental will be available at the Tamarac Refuge Visitor Center. All sizes of snowshoes are available including the littlest of feet\, so bring the kids. Dress warm and wear snow boots for a refreshing hike through the snowy woods of Tamarac National Wildlife Refuge. The visitor center exhibits and giftshop is also open 12:00 PM – 4:00 PM. \nFebruary 2025 Snowshoe Sunday Dates\n\nFebruary 1 \n\nFebruary 8 (During Detroit Lakes Polar Fest) \n\nFebruary 15 (During Detroit Lakes Polar Fest) \n\nFebruary 22 (During Detroit Lakes Polar Fest) \nAbout Tamarac National Wildlife Refuge\nTamarac National Wildlife Refuge was established by Congress in 1938\, and lies in the heart of one of the most diverse transition zones in North America. Here eastern deciduous hardwoods\, northern coniferous forests and western tallgrass prairie converge – creating a rich assemblage of both plants and animals.  Though the landscape has been altered by the influences of human history and past management\, the refuge remains largely intact with a functioning ecosystem and retains an untamed character for current visitors to enjoy\, use and respect. From the vibrant emergence of spring woodland wildflowers to the rich colors of autumn to the quiet hush of winter\, people come to revitalize their spirit and connect with a rich wildlife heritage. \nThe refuge is home to a large population of nesting trumpeter swans. Habitat conservation efforts address species such as the nearly threatened golden-winged warbler\, woodcock\, and ring-necked ducks. You’ll find Minnesota state icons including the common loon\, showy lady’s slipper\, red pine tree\, morel mushrooms\, wild rice and walleye. Tamarac National Wildlife Refuge website. \nAbout The Friends of Tamarac\nEstablished nearly 30 years ago this nonprofit group is made up of an active 10-15 member board and over 300 members. The Friends sponsor educational programs and events\, build observation platforms and pathways\, generate thousands of grant dollars for water quality and habitat projects\, host a popular nature photography contest\, and so much more. We are an advocate for wildlife refuges and passionate about protecting wild places for generations. The volunteers of Tamarac donated over 8\,000 hours of service just last year. The Friends of Tamarac website. \nAbout Detroit Lakes Polar Fest\nDetroit Lakes Polar Fest is is a 17-day winter festival that features a multitude of outdoor winter activities. It is held in early and mid-February with the plunge and fireworks on the last Saturday night of Polar Fest. Polar Fest was started in 1996 by Erika Johnson\, previous owner of Lakeside Tavern. She loved winter and wanted to see some sort of celebration of winter by the lake and outside her restaurant. Coincidentally\, Ron Zeman\, former Develop DL board member\, heard of people jumping into a hole in the lake to raise money for an organization. He took that idea to the Boys & Girls Club and the “Polar Fest Plunge” was born. Unfortunately\, in 2002 a lack of support left Polar Fest with only its key event\, the Polar Plunge. \nIn 2005\, a group of crazy\, winter-loving citizens came together to reinvigorate and warm up Polar Fest. Since then\, Polar Fest has since continued with the pinnacle event being the Polar Fest Plunge into Little Detroit Lake. However\, many other activities including golfing on the lake\, polar explorer presentations\, dances and more have been added. In 2008\, fireworks on the last Saturday evening were added\, becoming one of the highlights of the week-long winter celebration. Don’t miss one of Minnesota’s most fun winter festivals! \n\nMark your calendar today so you don’t miss the next Polar Fest Snowshoe Sunday at Tamarac National Wildlife Refuge in Rochert\, Minnesota in February. Be sure to enjoy other Detroit Lakes Polar Fest events as well! \nTags: Snowshoe Sunday\, Polar Fest Snowshoe Sunday\, Snowshoe Sundau\, Tamarac Snowshoe Sunday\, Detroit Lakes Winter Activities \n\nBest Polar Fest Hotels in Detroit Lakes\, Minnesota\nThe Lodge on Lake Detroit & The Spa Within\nThe only way to improve Polar Fest is staying in one of the best Polar Fest Hotels in Detroit Lakes. However long your stay\, you will find our Detroit Lakes Minnesota lake resort the perfect place to unwind after a busy day. What better way to relax than in The Lodge’s beautiful Fireside Lobby and LoLa D’s Lobby Bar & Bistro? Nestled in a lovely tree-filled setting on a private sandy beach\, you’ll find the latest hotel style and amenities. The Lodge is independently owned and operated by Holland Hospitality\, Inc.\, now providing a generation of hospitality excellence. \nWith our modern amenities and thoughtful design\, we stand out among other lodging choices in Detroit Lakes\, MN. For couples or family getaways\, we offer a variety of rooms and suites with king\, queen or two queen beds. Our free daily hot breakfast\, indoor heated pool and fitness center make the hotel a great place to recharge between enjoying Detroit Lakes attractions and activities. View Hotel Detail \nYour room features lakefront views\, free Wi-Fi and wired internet\, flat-screen TVs with extended channels. It is also equipped with mini-fridge\, microwave\, and coffee maker\, and is pet and smoke free. View accommodation detail. \nDetroit Lakes Day Spa: You will experience extensive menu of select spa treatment services at The Spa Within at The Lodge\, many of which are exclusive signature treatments. A variety of facials and massage therapies will provide you a deeply relaxed state as part of your spa experience. Some of these revitalizing treatments include the use of warm and cold basalt stones for face and body.
URL:https://thelodgeonlakedetroit.com/event/polar-fest-snowshoe-sundays-at-tamarac-national-wildlife-refuge/
LOCATION:Tamarac National Wildlife Refuge\, 35704 County Highway 26\, Rochert\, MN\, 56578\, United States
CATEGORIES:All Lodge Events,Annual Evemts,Bonspiels,Local Non Lodge Event,Polar Fest
ATTACH;FMTTYPE=image/jpeg:https://thelodgeonlakedetroit.com/wp-content/uploads/2023/02/polar-fest-tamarac-snow-shoe-sundays-03-1400x933-1.jpg
ORGANIZER;CN="Friends of Tamarac National Wildlife Refuge":MAILTO:info@tamaracfriends.org
END:VEVENT
BEGIN:VEVENT
DTSTART;TZID=UTC:20250112T130000
DTEND;TZID=UTC:20250112T160000
DTSTAMP:20260419T185119
CREATED:20230224T164124Z
LAST-MODIFIED:20250106T134448Z
UID:9376-1736686800-1736697600@thelodgeonlakedetroit.com
SUMMARY:Tamarac Youth Ice Fishing Day
DESCRIPTION:BOOK NOWCALL NOW\n2025 Tamarac Youth Ice Fishing Day\nLong Bridge | Detroit Lakes MNJanuary 12\, 2025\n2025 Tamarac Youth Ice Fishing Day\nLong Bridge | Detroit Lakes MNJanuary 12\, 2025\nDon’t miss the 2025 Tamarac Youth Ice Fishing Day on January 121\, 2025 at Long Bridge in Detroit Lakes\, MN 56501. Don’t know how to ice fish? Don’t miss this opportunity get the scoop on ice fishing. This youth mentoring ice fishing day is a wonderful chance to learn how to ice fish. We’ll drill the holes\, provide a warming shelter\, and tips on winter fishing. \nVolunteer mentors can handle up to 20 kids per hour so sign up for 1:00\, 2:00 or 3:00 pm arrival time by choosing the ticketed time. Kids that are signed up will get to keep the ice fishing kit complete with pole\, scoop\, lead free tackle\, bucket and more provided by the Friends of Tamarac. This experience is geared for youth 6-16 but the whole family can tag along. Park at Long Bridge Bar\, Grill & Marina and step inside to check in. \nReserve your spot for one of these FREE ticket times – just sign up each child (no need to register parents\, but please come with your child) \nReserve your spot (online) for one of these FREE ticket times – just sign up each child (no need to register parents\, but please come with your child). \nLocation/Parking:\n\nLong Bridge: 2000 Long Bridge Road; Detroit Lakes\, MN 56501 \n\nPark at the Long Bridge Bar\, Grill & Marina; 2000 Long Bridge Rd\, Detroit Lakes\, MN 56501; (218) 847-1949
URL:https://thelodgeonlakedetroit.com/event/tamarac-youth-ice-fishing-day/
LOCATION:Long Bridge\, 2000 Long Bridge Road\, Detroit Lakes\, 56501\, United States
CATEGORIES:All Lodge Events,Annual Evemts,Bonspiels,Local Non Lodge Event
ATTACH;FMTTYPE=image/jpeg:https://thelodgeonlakedetroit.com/wp-content/uploads/2023/02/Tamarac-Youth-Ice-Fishing-Day-01-1400x933-1.jpg
ORGANIZER;CN="Friends of Tamarac National Wildlife Refuge":MAILTO:info@tamaracfriends.org
END:VEVENT
BEGIN:VEVENT
DTSTART;TZID=UTC:20211210T160000
DTEND;TZID=UTC:20211212T180000
DTSTAMP:20260419T185119
CREATED:20211014T024310Z
LAST-MODIFIED:20220915T113643Z
UID:7137-1639152000-1639332000@thelodgeonlakedetroit.com
SUMMARY:Lakes Curling Club Sunlite Doubles Bonspiel
DESCRIPTION:BOOK NOWCALL NOW\n2021 Sunlite Doubles Bonspiel\nLakes Curling Club ~ Detroit Lakes\, Minnesota\n2021 Sunlite Doubles Bonspiel\nLakes Curling Club\nJoin us for the Annual Lakes Curling Club Sunlite Doubles Bonspiel on December 10-12\, 2021. The Sunlite Doubles Bonspiel is an event hosted by the Lakes Curling Club in Detroit Lakes\, Minnesota in December each year. The Sunlite Doubles Bonspiel will follow World Curling Federation doubles rules. Open to all entrants (2 genders not required). \n\n$120.00 (U.S.) per Team\nCash Prizes for Each Event.\nFREE $10.00 Meal Ticket for Each Participant.\nChampions’s entry fee will be paid for at the next year’s Bonspiel.\nFREE Refreshments!\nOfficial Event Webpage\n\nREGISTRATION:\n\nContact Mark Gulseth\, 218-849-8762 or markgulseth@yahoo.com\nPayment due at time of registration.\n30 Day Notice of cancellation for full refund.\n\nThe Sunlite Doubles Bonspiel is a large curling tournament that attracts top teams from across the region. There is a very festive atmosphere in the clubhouse. If you’ve never seen curling or are interested in the sport\, come out and watch for a while\, even if you’re not playing! To register a team\, visit www.lakescurling.com or if you want more info\, email lakescurling@lakescurling.com or call 701-261-5708. There is no fee to watch the bonspiel and spectators are always welcome! \nLocation & Contact\nLakes Curling Club\n506 US Highway 59\nDetroit Lakes\, MN 56501\nEmail: lakescurlinginfo@gmail.com\nLakes Curling Club Face Book Page \nVern Turner Memorial Bonspiel Participant Details & Registration\n \nPhoto Credit: Lakes Curling Club\nAbout Lakes Curling Club\nThe Lakes Curling Club provides recreational opportunities for all curlers. Dedicated to the promotion and the coordination of the sport of curling to provide fun\, fellowship and family activities within Detroit Lakes and surrounding communities. The Club was founded in March 25\, 1980\, starting with thirty Charter Members\, which included Officers and Board of Directors. The Club sponsors leagues that compete three times weekly\, several bonspeils (curling tournaments)\, Community Ed Classes\, and other special events that include Youth Curling Lakes Curling Club website. \nMark your calendar today so you don’t miss the next Lakes Curling Club Vern Turner Memorial Bonspiel in Detroit Lakes\, Minnesota in February! \nTags: Detroit Lakes Curling Tournament\, Detroit Lakes Polar Fest\, Vern Turner Memorial Bonspiel\, Detroit Lakes Winter Activities \n\n										\n										\n										\n									Best Winter & Polar Fest Hotels in Detroit Lakes\, Minnesota\nThe Lodge on Lake Detroit & The Spa Within\nThe only way to improve the Detroit Lakes Polar Fest\, one of Minnesota’s most fun winter festivals\, is to stay in one of the best Polar Fest Hotels in Detroit Lake. Whether your stay is the entire 11-day event\, any of the three weekends or if you are just here for a particular event\, you will find our Detroit Lakes Minnesota lake resort is the perfect setting to relax and recover from all the day’s activities. What better way to unwind after a busy winter Minnesota day than in The Lodge’s beautiful Fireside Lobby and LoLa D’s Lobby Bar & Bistro. Nestled in a lovely tree-filled setting on a private 550 foot wide sandy beach\, you’ll find the latest hotel style and amenities. The Lodge is independently owned and operated by Holland Hospitality\, Inc.\, now in its third generation of providing excellence in hospitality. \nWith our modern amenities and thoughtful design\, we stand out among other lodging choices in Detroit Lakes\, MN. For couples or family getaways\, we offer a variety of rooms and suites with king\, queen or two queen beds. Our free hot breakfast\, indoor heated pool and fitness center make the hotel a great place to recharge between enjoying Detroit Lakes attractions and activities. View hotel detail. \nAll rooms feature lakefront views\, free Wi-Fi and wired internet\, 55″ flat-screen HDTVs. Rooms are equipped with mini-fridge\, microwaves\, and coffee makers and are pet and smoke free. View accommodation detail. \nDetroit Lakes Day Spa: The Spa Within at The Lodge offers an extensive menu of select spa treatment services\, many of which are signature treatments exclusive to this spa. These revitalizing treatments include the use of warm and cold basalt stones for face and body\, and a variety of facials and massage therapies that are sure to induce a state of deep relaxation. \n\nCall Hotel Direct at (218) 847-8439 or book online now!
URL:https://thelodgeonlakedetroit.com/event/lakes-curling-club-sunlite-doubles-bonspiel/
LOCATION:Lakes Curling Club\, 506 US Highway 59\, Detroit Lakes\, MN\, 56501\, United States
CATEGORIES:Annual Evemts,Bonspiels,Local Non Lodge Event
ATTACH;FMTTYPE=image/jpeg:https://thelodgeonlakedetroit.com/wp-content/uploads/2021/10/detroit-lakes-curling-club-bonspiel-02-1400x800-1.jpg
ORGANIZER;CN="Lakes Curling Club":MAILTO:https://thelodgeonlakedetroit.com/lakes-curling-club/
END:VEVENT
END:VCALENDAR