BEGIN:VCALENDAR
VERSION:2.0
PRODID:-//The Lodge on Lake Detroit - ECPv6.15.20//NONSGML v1.0//EN
CALSCALE:GREGORIAN
METHOD:PUBLISH
X-ORIGINAL-URL:http://thelodgeonlakedetroit.com
X-WR-CALDESC:Events for The Lodge on Lake Detroit
REFRESH-INTERVAL;VALUE=DURATION:PT1H
X-Robots-Tag:noindex
X-PUBLISHED-TTL:PT1H
BEGIN:VTIMEZONE
TZID:UTC
BEGIN:STANDARD
TZOFFSETFROM:+0000
TZOFFSETTO:+0000
TZNAME:UTC
DTSTART:20180101T000000
END:STANDARD
END:VTIMEZONE
BEGIN:VEVENT
DTSTART;TZID=UTC:20190822T170000
DTEND;TZID=UTC:20190822T200000
DTSTAMP:20260424T013425
CREATED:20190807T162749Z
LAST-MODIFIED:20190813T031913Z
UID:2643-1566493200-1566504000@thelodgeonlakedetroit.com
SUMMARY:Summer Thursday: Jessica Vines Trio: Jessica Vines\, Connor Lee
DESCRIPTION:Upcoming Events at The Lodge\nSummer Thursdays at The Lodge\n\nFeaturing Live Entertainment:\nBY – Jessica Vines Trio: Jessica Vines\, Connor Lee\nWHEN – Thursday\, August 22\, 2019 5-8 P.M.\nDETAILS – No cover charge. Drinks & food/appetizers available for purchase from LoLaD’s lobby bar. Open to guests & the public \nEnjoy the best of Detroit Lakes Live Music at The Best Western Premier Lodge on Lake Detroit on Thursday\, August 22\, 2019 from 5-8 p.m. in the beautiful Fireside Lobby in Detroit Lakes\, Minnesota. The Lodge has always featured the best in regional music entertainment. Top performers join us \nSeveral times during the year in our Fireside Lobby. Whether you are in town as a Lodge guest\, or you are a ‘local’ looking for a casual place to relax with friends\, your favorite drink and a beautiful view\, you’ll find “Summer Thursday at The Lodge” is the place to be on August 22nd.
URL:http://thelodgeonlakedetroit.com/event/summer-thursday-08-22-19/
CATEGORIES:All Lodge Events,Live at The Lodge
ATTACH;FMTTYPE=image/jpeg:http://thelodgeonlakedetroit.com/wp-content/uploads/2019/08/Jessica-Vines-Trio-10-1400x800.jpg
END:VEVENT
BEGIN:VEVENT
DTSTART;TZID=UTC:20190808T170000
DTEND;TZID=UTC:20190808T200000
DTSTAMP:20260424T013425
CREATED:20190731T185725Z
LAST-MODIFIED:20190813T031928Z
UID:1821-1565283600-1565294400@thelodgeonlakedetroit.com
SUMMARY:Russ Peterson\, Doug Neill\, David Ferreira
DESCRIPTION:Upcoming Events at The Lodge\nSummer Thursdays at The Lodge\n\nFeaturing Live Entertainment:\nBY – Jazz Trio: Russ Peterson: Sax\, Doug Neill: Bass & David Ferreira: Piano and Vocals\nWHEN – Thursday\, August 8\, 2019 5-8 P.M.\nDETAILS – No cover charge. Drinks & food/appetizers available for purchase from LoLaD’s lobby bar. Open to guests & the public \nEnjoy the best of Detroit Lakes Live Music at The Best Western Premier Lodge on Lake Detroit on Thursday\, August 8\, 2019 from 5-8 p.m. in the beautiful Fireside Lobby in Detroit Lakes\, Minnesota. The Lodge has always featured the best in regional music entertainment. Top performers join us \nSeveral times during the year in our Fireside Lobby. Whether you are in town as a Lodge guest\, or you are a ‘local’ looking for a casual place to relax with friends\, your favorite drink and a beautiful view\, you’ll find “Summer Thursday at The Lodge” is the place to be on August 8th.
URL:http://thelodgeonlakedetroit.com/event/live-at-the-lodge-august-08-2019/
CATEGORIES:All Lodge Events,Live at The Lodge
ATTACH;FMTTYPE=image/jpeg:http://thelodgeonlakedetroit.com/wp-content/uploads/2019/07/dpc-notes-music-with-musicians-06-2015-02-1400x800.jpg
END:VEVENT
BEGIN:VEVENT
DTSTART;TZID=UTC:20190725T170000
DTEND;TZID=UTC:20190725T200000
DTSTAMP:20260424T013425
CREATED:20190723T152927Z
LAST-MODIFIED:20190813T031936Z
UID:146-1564074000-1564084800@thelodgeonlakedetroit.com
SUMMARY:David Ferreira Trio
DESCRIPTION:Upcoming Events at The Lodge\nSummer Thursdays at The Lodge\nFeaturing:\nJazz Duo: David Ferreira Trio (piano & vocals)\,\nJeremy Cahill (bass)  & Roger Gress (drums) \nThursday\, July 25\, 2019 5-8 P.M. \nNo cover charge. Drinks & food/appetizers available for purchase from LoLaD’s lobby bar. Open to guests & the public \n[av_image src=’http://thelodgeonlakedetroit.com/wp-content/uploads/2019/07/DaveFerreiraTrio-wRussPeterso08-1000×667-300×197.jpg’ attachment=’153′ attachment_size=’full’ align=’center’ styling=” hover=” link=” target=” caption=” font_size=” appearance=” overlay_opacity=’0.4′ overlay_color=’#000000′ overlay_text_color=’#ffffff’ copyright=” animation=’no-animation’ av_uid=” custom_class=” admin_preview_bg=”][/av_image] \nEnjoy the best of Detroit Lakes Live Music at The Best Western Premier Lodge on Lake Detroit on Thursday\, July 25\, 2019 from 5-8 p.m. in the beautiful Fireside Lobby in Detroit Lakes\, Minnesota. The Lodge has always featured the best in regional music entertainment. Top performers join us \nseveral times during the year in our Fireside Lobby. Whether you are in town as a Lodge guest\, or you are a ‘local’ looking for a casual place to relax with friends\, your favorite drink and a beautiful view\, you’ll find “Summer Thursday at The Lodge” is the place to be on July 25th.
URL:http://thelodgeonlakedetroit.com/event/live-at-the-lodge-july-25-2019/
CATEGORIES:All Lodge Events,Live at The Lodge
END:VEVENT
END:VCALENDAR