BEGIN:VCALENDAR
VERSION:2.0
PRODID:-//The Lodge on Lake Detroit - ECPv6.15.20//NONSGML v1.0//EN
CALSCALE:GREGORIAN
METHOD:PUBLISH
X-WR-CALNAME:The Lodge on Lake Detroit
X-ORIGINAL-URL:http://thelodgeonlakedetroit.com
X-WR-CALDESC:Events for The Lodge on Lake Detroit
REFRESH-INTERVAL;VALUE=DURATION:PT1H
X-Robots-Tag:noindex
X-PUBLISHED-TTL:PT1H
BEGIN:VTIMEZONE
TZID:UTC
BEGIN:STANDARD
TZOFFSETFROM:+0000
TZOFFSETTO:+0000
TZNAME:UTC
DTSTART:20180101T000000
END:STANDARD
END:VTIMEZONE
BEGIN:VEVENT
DTSTART;TZID=UTC:20210722T170000
DTEND;TZID=UTC:20210722T200000
DTSTAMP:20260423T175154
CREATED:20210406T144422Z
LAST-MODIFIED:20211011T094729Z
UID:6014-1626973200-1626984000@thelodgeonlakedetroit.com
SUMMARY:Live at The Lodge: Eric Martens Guitar Duo
DESCRIPTION:BOOK NOWCALL NOW\nEric Martens Guitar Duo\nJuly 22\, 2021 @ 5:00 pm – 8:00 pm\nNo cover charge. Drinks & food/appetizers available for purchase from LoLaD’s lobby bar.\nOpen to guests & the public. \nEnjoy the best of Detroit Lakes Live Music at The Best Western Premier Lodge on Lake Detroit on Saturday July 22\, 2021 from 5:00 – 8:00 p.m. in the beautiful Fireside Lobby in Detroit Lakes\, Minnesota. The Lodge has always featured the best in regional music entertainment. Top performers join us several times during the year in our Fireside Lobby. Whether you are in town as a Lodge guest\, or you are a ‘local’ looking for a casual place to relax with friends\, your favorite drink and a beautiful view\, you’ll find “LIVE at The Lodge” is the place to be on July 22nd. \nBOOK ONLINE NOW\nCall Hotel Direct at (218) 847-8439 or to book online and stay the evening! \nAbout the Talent:\nEric Martens \nGuitarist Eric Martens has been an active performer and instructor in the Midwest since 2003. He currently serves on the faculty at North Dakota State University and as Instructor of Classical and Jazz guitar at Concordia College. Martens has performed with nationally- and internationally-acclaimed musicians such as Ignacio Berroa\, Will Kennedy\, Terri Lynn Carrington\, Gregg Bissonette\, Rex Richardson\, and Phil Woods. He has performed in master classes hosted by world-renowned groups and musicians including classical guitar virtuoso Christopher Parkening\, lutenist Phillip Rukavina\, and the Minneapolis Guitar Quartet. \nIn the spring of 2014\, Martens recorded with saxophonist Grant Larson and his band in a marathon session lasting over six hours. The result was Passages\, a collection of original compositions and a unique arrangement of the jazz standard “Yesterdays.” Martens holds a Bachelor of Music degree from Concordia College and a Master of Music degree from North Dakota State University\, both in guitar performance. He has studied with classical guitarist Mike Coates and jazz guitarists Dan Phillips and Dale Bruning. Martens is a highly sought-after guitarist in the Fargo/Moorhead music community. He performs regularly with a number of well-known local groups including The Carluster Crumplebee Orchestra\, Twelve Strings\, and Kapeesh\, and also works as a session musician. \nEric Martens Web Page \n\n\nBest Hotels in Detroit Lakes\, Minnesota\nThe Lodge on Lake Detroit & The Spa Within\nBest Western Premier The Lodge On Lake Detroit\, a Lifestyle Lakefront Minnesota Hotel\, offers a great location and numerous amenities that make us the premier lakefront lodging destination for Historic Holmes Theatre attendees. See why TripAdvisor Guests rate us Number One in Detroit Lakes. \nThe Lodge on Lake Detroit is an experience\, not just a place to stay. Escape to The Lodge to unwind\, to gather with family and friends\, to be pampered\, to focus on a healthy lifestyle. . . a destination to restore and rekindle your passion for life. Best Western Premier The Lodge on Lake Detroit offers unique amenities and services that aren’t found in a typical hotel. It’s a smoke and pet-free environment\, most rooms offering a walk-in glass enclosed shower instead of a tub/shower\, and artwork from regional artists is found throughout the Minnesota Resorts Hotel. Nestled along a 550 foot lakefront\, all rooms face Big Detroit Lake and feature breathtaking views.
URL:http://thelodgeonlakedetroit.com/event/copy-of-live-at-the-lodge-july-22-2021/
LOCATION:The Lodge on Lake Detroit\, 1200 E Shore Dr\, Detroit Lakes\, 56501\, United States
CATEGORIES:All Lodge Events,Live at The Lodge
ATTACH;FMTTYPE=image/jpeg:http://thelodgeonlakedetroit.com/wp-content/uploads/2021/04/musical-artist-cnv610234960-b-eric-martens-1400x933-1.jpg
END:VEVENT
BEGIN:VEVENT
DTSTART;TZID=UTC:20210708T170000
DTEND;TZID=UTC:20210708T200000
DTSTAMP:20260423T175154
CREATED:20210406T143949Z
LAST-MODIFIED:20211011T102004Z
UID:6010-1625763600-1625774400@thelodgeonlakedetroit.com
SUMMARY:Live at The Lodge: David Ferreira & Russ Peterson
DESCRIPTION:BOOK NOWCALL NOW\nDavid Ferreira (Piano/Vocals) with Russ Peterson (Sax)\nJuly 8\, 2021 @ 5:00 pm – 8:00 pm\nNo cover charge. Drinks & food/appetizers available for purchase from LoLaD’s lobby bar.\nOpen to guests & the public. \nEnjoy the best of Detroit Lakes Live Music at The Best Western Premier Lodge on Lake Detroit on Saturday July 8\, 2021 from 5:00 – 8:00 p.m. in the beautiful Fireside Lobby in Detroit Lakes\, Minnesota. The Lodge has always featured the best in regional music entertainment. Top performers join us several times during the year in our Fireside Lobby. Whether you are in town as a Lodge guest\, or you are a ‘local’ looking for a casual place to relax with friends\, your favorite drink and a beautiful view\, you’ll find “LIVE at The Lodge” is the place to be on July 8th. \nBOOK ONLINE NOW\nCall Hotel Direct at (218) 847-8439 or to book online and stay the evening. \nAbout the Talent:\nDavid Ferreira \nDr. David Ferreira currently enjoys teaching jazz piano and the vocal jazz ensembles at both Concordia College and Minnesota State University Moorhead in addition to leading his own professional jazz trio. He pursued his Bachelor of Music degree at Illinois Wesleyan\, has done graduate work at Union Theological Seminary’s School of Sacred Music in New York City and received his master’s and doctoral degrees from the College-Conservatory of Music\, University of Cincinnati. Dr. Ferreira is a performing singer\, conductor\, published composer-arranger and jazz pianist. He performed with the Fargo/Moorhead Jazz Arts Group ensembles for 17 years\, and directs the Cathedral Choir at First Lutheran Church in Fargo\, ND. \nDavid Ferreirae Facebook Page \n\nRussell Peterson \nAn accomplished classical/jazz saxophonist\, bassoonist and composer\, Russell Peterson holds degrees from Youngstown State University (Ohio)\, Le Conservatoire de Bordeaux (France)\, and Bowling Green State University (Ohio)\, where he studied with Dr. James Umble\, Donald Byo\, Jean-Marie Londeix\, Dr. Jeffery Lyman and Dr. John Sampen. Winner of numerous prizes\, including the top prize at the International Geneva Saxophone Concours\, (Switzerland)\, and first place winner of the MTNA National Music Competition\, Mr. Peterson has soloed with orchestras in the United States as well as Europe\, including the Dana Chamber Orchestra\, (USA)\, Concordia Orchestra\, (USA)\, Bowling Green Philharmonic\, (USA)\, L’Orchestra de la Suisse Romande\, (Switzerland)\, Collegium Musicum\, Basel (Switzerland)\, The Fargo-Moorhead Symphony Orchestra\, The Contra Costa Chamber Orchestra (USA)\, The Orchestra Conservatorio Superior De M?sica (Spain)\, The Western New York Chamber Orchestra (USA)\, and The St. Petersburg Philharmonic\, (Russia). \nMr. Peterson is an active chamber musician\, performing extensively throughout Europe and The United States with The Transcontinental Saxophone Quartet\, and is currently also performing with the Hard-Bop Jazz Saxophone Quartet in Fargo-Moorhead. The Hard-Bop Quartet’s first CD release “DON’T STEP ON YOUR NECK”\, is available on Sea-Breeze records and the TSQ’s debut CD “MOUNTAIN ROADS” is available on Albany Records. Russell’s first solo CD “AMERICAN BREATH” is on Barking Dog Records and features the music of David Maslanka\, Larry Bell and Peterson. Russell released “Russ Peterson and Friends\, Jazz/Rock Saxophone” in Jan of 2010. As an Orchestral player\, Russell has served as bassoonist with several symphony orchestras\, and is currently principal bassoonist with the Fargo-Moorhead Symphony\, as well as bassoonist with t he Fargo-Moorhead Symphony Wind Quintet. \nMr. Peterson has performed with some of the most notable artist in the business: Phil Woods\, Manhattan Transfer\, Dave Weckle\, Peter Erskin\, Henry Mancini\, Gregg Bissonette\, Ray Charles\, Wayne Newton\, Bill Watrous\, Gregg Field\, Frankie Valie and the 4 Seasons\, Maureen McGovern\, Samuel Sanders\, The Eroica Trio\, Will Kennedy\, Frankie Avalon\, Tommy Igoe\, Nick Brignola\, Zoro\, Ignacio Berroa\, Terri Lyne Carrington\, the Four Tops. Mr. Peterson has served on the faculty at Youngstown State University (Ohio)\, The University of Toledo (Ohio)\, Minnesota State University Moorhead\, The Interlochen Summer Arts Camp (Michigan)\, The International Music Camp\, and is currently instructor of Saxophone\, Bassoon \,and Jazz ensemble Iat Concordia College in Moorhead\, Minnesota. \nRussell Peterson Web Page | Russell Peterson Facebook Page \n\n\n\nBest Hotels in Detroit Lakes\, Minnesota\nThe Lodge on Lake Detroit & The Spa Within\nBest Western Premier The Lodge On Lake Detroit\, a Lifestyle Lakefront Minnesota Hotel\, offers a great location and numerous amenities that make us the premier lakefront lodging destination for Historic Holmes Theatre attendees. See why TripAdvisor Guests rate us Number One in Detroit Lakes. \nThe Lodge on Lake Detroit is an experience\, not just a place to stay. Escape to The Lodge to unwind\, to gather with family and friends\, to be pampered\, to focus on a healthy lifestyle. . . a destination to restore and rekindle your passion for life. Best Western Premier The Lodge on Lake Detroit offers unique amenities and services that aren’t found in a typical hotel. It’s a smoke and pet-free environment\, most rooms offering a walk-in glass enclosed shower instead of a tub/shower\, and artwork from regional artists is found throughout the Minnesota Resorts Hotel. Nestled along a 550 foot lakefront\, all rooms face Big Detroit Lake and feature breathtaking views.
URL:http://thelodgeonlakedetroit.com/event/live-at-the-lodge-july-8-2021/
LOCATION:The Lodge on Lake Detroit\, 1200 E Shore Dr\, Detroit Lakes\, 56501\, United States
CATEGORIES:All Lodge Events,Live at The Lodge
ATTACH;FMTTYPE=image/jpeg:http://thelodgeonlakedetroit.com/wp-content/uploads/2021/04/David-Ferreira-and-Russ-Peterson50-1400x933-1.jpg
END:VEVENT
BEGIN:VEVENT
DTSTART;TZID=UTC:20200509T170000
DTEND;TZID=UTC:20200509T200000
DTSTAMP:20260423T175154
CREATED:20200206T215434Z
LAST-MODIFIED:20200206T220202Z
UID:4086-1589043600-1589054400@thelodgeonlakedetroit.com
SUMMARY:LIVE at The Lodge Jessica Vines Duo: Jessica Vines & Connor Lee
DESCRIPTION:Upcoming Events at The Lodge\n“LIVE at The Lodge”\nSATURDAY\, May 9\, 2020\n\nFeaturing Live Entertainment:\nBY – Jessica Vines Duo: Jessica Vines\, Connor Lee\nWHEN – SATURDAY\, May 9\, 2020 5 to 8 PM\nDETAILS – No cover charge. Drinks & food/appetizers available for purchase from LoLaD’s lobby bar. Open to guests & the public.\nEnjoy the best of Detroit Lakes Live Music at The Best Western Premier Lodge on Lake Detroit on Saturday May 9\, 2020 from 5-8 p.m. in the beautiful Fireside Lobby in Detroit Lakes\, Minnesota. The Lodge has always featured the best in regional music entertainment. Top performers join us \nSeveral times during the year in our Fireside Lobby. Whether you are in town as a Lodge guest\, or you are a ‘local’ looking for a casual place to relax with friends\, your favorite drink and a beautiful view\, you’ll find “LIVE at The Lodge” is the place to be on May 9th.
URL:http://thelodgeonlakedetroit.com/event/live-at-the-lodge-jessica-vines-duo-jessica-vines-connor-lee/
CATEGORIES:All Lodge Events,Live at The Lodge
ATTACH;FMTTYPE=image/jpeg:http://thelodgeonlakedetroit.com/wp-content/uploads/2020/02/jessica-vines-connor-lee-1400x800-1.jpg
END:VEVENT
BEGIN:VEVENT
DTSTART;TZID=UTC:20200416T170000
DTEND;TZID=UTC:20200416T183000
DTSTAMP:20260423T175154
CREATED:20191228T035502Z
LAST-MODIFIED:20200330T212339Z
UID:3873-1587056400-1587061800@thelodgeonlakedetroit.com
SUMMARY:LIVE at The Lodge Featuring Sprig of That
DESCRIPTION:Upcoming Events at The Lodge-\nEVENT CANCELLED\n“LIVE at The Lodge”\n\n\nFeaturing Live Entertainment:\nBY – Sprig of That\nWHEN – Thursday\, April 16\, 2020 5-6:30 P.M.\nDETAILS – No cover charge. Drinks & food/appetizers available for purchase from LoLaD’s lobby bar. Open to guests & the public. \nSprig of That is a Twin-cities based folk-fusion trio that combines vibrant Americana\, Western classical virtuosity\, and world rhythmic textures to form a surprisingly natural acoustic blend. Isabel Dammann on Violin/Voice\, Ilan Blank on Guitar\, and Krissy Bergmark on Tabla. . \nEnjoy the best of Detroit Lakes Live Music at The Best Western Premier Lodge on Lake Detroit on Thursday\, April 16\, 2020 from 5-6:30 p.m. in the beautiful Fireside Lobby in Detroit Lakes\, Minnesota. The Lodge has always featured the best in regional music entertainment. Top performers join us several times during the year in our Fireside Lobby. Whether you are in town as a Lodge guest\, or you are a ‘local’ looking for a casual place to relax with friends\, your favorite drink and a beautiful view\, you’ll find “LIVE at The Lodge” is the place to be on April 16th!
URL:http://thelodgeonlakedetroit.com/event/live-at-the-lodge-4-16-2020/
LOCATION:The Lodge on Lake Detroit\, 1200 E Shore Dr\, Detroit Lakes\, 56501\, United States
CATEGORIES:All Lodge Events,Live at The Lodge
ATTACH;FMTTYPE=image/jpeg:http://thelodgeonlakedetroit.com/wp-content/uploads/2019/12/sprig-of-that-1400x800-1.jpg
END:VEVENT
BEGIN:VEVENT
DTSTART;TZID=UTC:20200307T170000
DTEND;TZID=UTC:20200307T200000
DTSTAMP:20260423T175154
CREATED:20200106T172050Z
LAST-MODIFIED:20200224T202215Z
UID:3935-1583600400-1583611200@thelodgeonlakedetroit.com
SUMMARY:LIVE at The Lodge
DESCRIPTION:Upcoming Events at The Lodge\n“LIVE at The Lodge”\nSATURDAY\, March 7\, 2020\n\n\nFeaturing Live Entertainment:\nBY – David Ferreira Trio\nWHEN – SATURDAY\, March 7\, 2020\, 5 to 8 PM\nDETAILS – No cover charge. Drinks & food/appetizers available for purchase from LoLaD’s lobby bar. Open to guests & the public.\nEnjoy the best of Detroit Lakes Live Music at The Best Western Premier Lodge on Lake Detroit on Saturday\, March 7\, 2020 from 5-8 p.m. in the beautiful Fireside Lobby in Detroit Lakes\, Minnesota. The Lodge has always featured the best in regional music entertainment. Top performers join us several times during the year in our Fireside Lobby. Whether you are in town as a Lodge guest\, or you are a ‘local’ looking for a casual place to relax with friends\, your favorite drink and a beautiful view\, you’ll find “LIVE at The Lodge” is the place to be on March 7!
URL:http://thelodgeonlakedetroit.com/event/live-at-the-lodge-3-7-2020/
LOCATION:The Lodge on Lake Detroit\, 1200 E Shore Dr\, Detroit Lakes\, 56501\, United States
CATEGORIES:All Lodge Events,Live at The Lodge
ATTACH;FMTTYPE=image/jpeg:http://thelodgeonlakedetroit.com/wp-content/uploads/2020/01/david-ferreira-trio-5-facebook.jpg
END:VEVENT
BEGIN:VEVENT
DTSTART;TZID=UTC:20200216T170000
DTEND;TZID=UTC:20200216T200000
DTSTAMP:20260423T175154
CREATED:20191106T212834Z
LAST-MODIFIED:20200129T202641Z
UID:3515-1581872400-1581883200@thelodgeonlakedetroit.com
SUMMARY:LIVE at The Lodge Featuring The Deb Jenkins Band
DESCRIPTION:Upcoming Events at The Lodge\n“LIVE at The Lodge”\n“President’s Weekend”\n\nFeaturing Live Entertainment:\nBY – The Deb Jenkins Band\nWHEN – Sunday\, February 16\, 2020 5-8 P.M.\nDETAILS – No cover charge. Drinks & food/appetizers available for purchase from LoLaD’s lobby bar. Open to guests & the public. \nNOTE – This is also Polar Fest Weekend. Look for more details about Polar Fest Fun . . . Coming Soon. Visit the Polar Fest Website for more information. \nEnjoy the best of Detroit Lakes Live Music at The Best Western Premier Lodge on Lake Detroit on Sunday\, February 16\, 2020 from 5-8 p.m. in the beautiful Fireside Lobby in Detroit Lakes\, Minnesota. The Lodge has always featured the best in regional music entertainment. Top performers join us several times during the year in our Fireside Lobby. Whether you are in town as a Lodge guest\, or you are a ‘local’ looking for a casual place to relax with friends\, your favorite drink and a beautiful view\, you’ll find “LIVE at The Lodge” is the place to be on February 16th!
URL:http://thelodgeonlakedetroit.com/event/live-at-the-lodge-featuring-the-deb-jenkins-band/
CATEGORIES:All Lodge Events,Live at The Lodge
ATTACH;FMTTYPE=image/jpeg:http://thelodgeonlakedetroit.com/wp-content/uploads/2019/11/Deb-Jenkins-10-1400x800.jpg
END:VEVENT
BEGIN:VEVENT
DTSTART;TZID=UTC:20200103T180000
DTEND;TZID=UTC:20200103T200000
DTSTAMP:20260423T175154
CREATED:20191203T220727Z
LAST-MODIFIED:20191203T222138Z
UID:3804-1578074400-1578081600@thelodgeonlakedetroit.com
SUMMARY:LIVE at The Lodge Featuring Mike Gilson
DESCRIPTION:Upcoming Events at The Lodge\n“LIVE at The Lodge”\n\nFeaturing Live Entertainment:\nBY – Mike Gilson\, Guitar and Vocals\nWHEN – Friday\, January 3\, 2020 6-8 P.M.\nDETAILS – No cover charge. Drinks & food/appetizers available for purchase from LoLaD’s lobby bar. Open to guests & the public \nEnjoy the best of Detroit Lakes Live Music at The Best Western Premier Lodge on Lake Detroit on Friday\, January 3\, 2020 from 6-8 p.m. in the beautiful Fireside Lobby in Detroit Lakes\, Minnesota. The Lodge has always featured the best in regional music entertainment. Top performers join us several times during the year in our Fireside Lobby. Whether you are in town as a Lodge guest\, or you are a ‘local’ looking for a casual place to relax with friends\, your favorite drink and a beautiful view\, you’ll find “LIVE at The Lodge” is the place to be on January 3!
URL:http://thelodgeonlakedetroit.com/event/live-at-the-lodge-featuring-mike-gilson-1-3-2020/
LOCATION:The Lodge on Lake Detroit\, 1200 E Shore Dr\, Detroit Lakes\, 56501\, United States
CATEGORIES:All Lodge Events,Live at The Lodge
ATTACH;FMTTYPE=image/jpeg:http://thelodgeonlakedetroit.com/wp-content/uploads/2019/08/Mike-Gilson1-1400x800.jpg
END:VEVENT
BEGIN:VEVENT
DTSTART;TZID=UTC:20191228T170000
DTEND;TZID=UTC:20191228T200000
DTSTAMP:20260423T175155
CREATED:20191203T222402Z
LAST-MODIFIED:20191228T032410Z
UID:3807-1577552400-1577563200@thelodgeonlakedetroit.com
SUMMARY:LIVE at The Lodge Featuring David Ferreira Trio with Russ Peterson
DESCRIPTION:Upcoming Events at The Lodge\n“LIVE at The Lodge”\nRESCHEDULED TO SATURDAY\, MARCH 7\, 2020\n\n\nFeaturing Live Entertainment:\nBY – David Ferreira Trio with Russ Peterson\nWHEN – Saturday\, December 28\, 2019 5-8 P.M.\nRESCHEDULED FOR SATURDAY\, MARCH 7\, 2020\nUPDATE: Due to the incoming stow storm with TONS of snow predicted (like 18″!)\, we just made the final call to CANCEL LIVE at The Lodge scheduled for tomorrow\, 12/28/19. \nEnjoy the best of Detroit Lakes Live Music at The Best Western Premier Lodge on Lake Detroit on Saturday\, December 28\, 2019 from 5-8 p.m. in the beautiful Fireside Lobby in Detroit Lakes\, Minnesota. The Lodge has always featured the best in regional music entertainment. Top performers join us several times during the year in our Fireside Lobby. Whether you are in town as a Lodge guest\, or you are a ‘local’ looking for a casual place to relax with friends\, your favorite drink and a beautiful view\, you’ll find “LIVE at The Lodge” is the place to be on December 28!
URL:http://thelodgeonlakedetroit.com/event/live-at-the-lodge-featuring-david-ferreira-trio-with-russ-peterson-12-28-19/
LOCATION:The Lodge on Lake Detroit\, 1200 E Shore Dr\, Detroit Lakes\, 56501\, United States
CATEGORIES:All Lodge Events,Live at The Lodge
ATTACH;FMTTYPE=image/jpeg:http://thelodgeonlakedetroit.com/wp-content/uploads/2019/08/David-Ferreira-Trio-and-Russ-Peterson50-1400x800.jpg
END:VEVENT
BEGIN:VEVENT
DTSTART;TZID=UTC:20191102T170000
DTEND;TZID=UTC:20191102T200000
DTSTAMP:20260423T175155
CREATED:20190916T190313Z
LAST-MODIFIED:20190916T193605Z
UID:3410-1572714000-1572724800@thelodgeonlakedetroit.com
SUMMARY:The Excelsior Trio
DESCRIPTION:Upcoming Events at The Lodge\n“LIVE at The Lodge”\n\nFeaturing Live Entertainment:\nBY – The Excelsior Trio: Russ Peterson\, Saxophone; Deb Harris\, Flute & Jay Herschberger\, Piano\nWHEN – Saturday\, November 2\, 2019 5-8 P.M.\nDETAILS – No cover charge. Drinks & food/appetizers available for purchase from LoLaD’s lobby bar. Open to guests & the public \nEnjoy the best of Detroit Lakes Live Music at The Best Western Premier Lodge on Lake Detroit on Saturday\, November 2\, 2019 from 5-8 p.m. in the beautiful Fireside Lobby in Detroit Lakes\, Minnesota. The Lodge has always featured the best in regional music entertainment. Top performers join us several times during the year in our Fireside Lobby. Whether you are in town as a Lodge guest\, or you are a ‘local’ looking for a casual place to relax with friends\, your favorite drink and a beautiful view\, you’ll find “LIVE at The Lodge” is the place to be on November 2nd!
URL:http://thelodgeonlakedetroit.com/event/live-at-the-lodge-11-2-19/
CATEGORIES:All Lodge Events,Live at The Lodge
ATTACH;FMTTYPE=image/jpeg:http://thelodgeonlakedetroit.com/wp-content/uploads/2019/09/The-Excelsior-Trio-1400x800.jpg
END:VEVENT
BEGIN:VEVENT
DTSTART;TZID=UTC:20190829T170000
DTEND;TZID=UTC:20190829T200000
DTSTAMP:20260423T175155
CREATED:20190807T164958Z
LAST-MODIFIED:20190813T031905Z
UID:2649-1567098000-1567108800@thelodgeonlakedetroit.com
SUMMARY:Summer Thursdays: David Ferreira Trio & Russ Peterson
DESCRIPTION:Upcoming Events at The Lodge\nSummer Thursdays at The Lodge\n\nFeaturing Live Entertainment:\nBY – David Ferreira Trio & Russ Peterson\nWHEN – Thursday\, August 29\, 2019 5-8 P.M.\nDETAILS – No cover charge. Drinks & food/appetizers available for purchase from LoLaD’s lobby bar. Open to guests & the public \nEnjoy the best of Detroit Lakes Live Music at The Best Western Premier Lodge on Lake Detroit on Thursday\, August 29\, 2019 from 5-8 p.m. in the beautiful Fireside Lobby in Detroit Lakes\, Minnesota. The Lodge has always featured the best in regional music entertainment. Top performers join us \nSeveral times during the year in our Fireside Lobby. Whether you are in town as a Lodge guest\, or you are a ‘local’ looking for a casual place to relax with friends\, your favorite drink and a beautiful view\, you’ll find “Summer Thursday at The Lodge” is the place to be on August 29th.
URL:http://thelodgeonlakedetroit.com/event/summer-thursday-august-29-2019/
CATEGORIES:All Lodge Events,Live at The Lodge
ATTACH;FMTTYPE=image/jpeg:http://thelodgeonlakedetroit.com/wp-content/uploads/2019/08/David-Ferreira-Trio-and-Russ-Peterson-1400x800.jpg
END:VEVENT
BEGIN:VEVENT
DTSTART;TZID=UTC:20190822T170000
DTEND;TZID=UTC:20190822T200000
DTSTAMP:20260423T175155
CREATED:20190807T162749Z
LAST-MODIFIED:20190813T031913Z
UID:2643-1566493200-1566504000@thelodgeonlakedetroit.com
SUMMARY:Summer Thursday: Jessica Vines Trio: Jessica Vines\, Connor Lee
DESCRIPTION:Upcoming Events at The Lodge\nSummer Thursdays at The Lodge\n\nFeaturing Live Entertainment:\nBY – Jessica Vines Trio: Jessica Vines\, Connor Lee\nWHEN – Thursday\, August 22\, 2019 5-8 P.M.\nDETAILS – No cover charge. Drinks & food/appetizers available for purchase from LoLaD’s lobby bar. Open to guests & the public \nEnjoy the best of Detroit Lakes Live Music at The Best Western Premier Lodge on Lake Detroit on Thursday\, August 22\, 2019 from 5-8 p.m. in the beautiful Fireside Lobby in Detroit Lakes\, Minnesota. The Lodge has always featured the best in regional music entertainment. Top performers join us \nSeveral times during the year in our Fireside Lobby. Whether you are in town as a Lodge guest\, or you are a ‘local’ looking for a casual place to relax with friends\, your favorite drink and a beautiful view\, you’ll find “Summer Thursday at The Lodge” is the place to be on August 22nd.
URL:http://thelodgeonlakedetroit.com/event/summer-thursday-08-22-19/
CATEGORIES:All Lodge Events,Live at The Lodge
ATTACH;FMTTYPE=image/jpeg:http://thelodgeonlakedetroit.com/wp-content/uploads/2019/08/Jessica-Vines-Trio-10-1400x800.jpg
END:VEVENT
BEGIN:VEVENT
DTSTART;TZID=UTC:20190808T170000
DTEND;TZID=UTC:20190808T200000
DTSTAMP:20260423T175155
CREATED:20190731T185725Z
LAST-MODIFIED:20190813T031928Z
UID:1821-1565283600-1565294400@thelodgeonlakedetroit.com
SUMMARY:Russ Peterson\, Doug Neill\, David Ferreira
DESCRIPTION:Upcoming Events at The Lodge\nSummer Thursdays at The Lodge\n\nFeaturing Live Entertainment:\nBY – Jazz Trio: Russ Peterson: Sax\, Doug Neill: Bass & David Ferreira: Piano and Vocals\nWHEN – Thursday\, August 8\, 2019 5-8 P.M.\nDETAILS – No cover charge. Drinks & food/appetizers available for purchase from LoLaD’s lobby bar. Open to guests & the public \nEnjoy the best of Detroit Lakes Live Music at The Best Western Premier Lodge on Lake Detroit on Thursday\, August 8\, 2019 from 5-8 p.m. in the beautiful Fireside Lobby in Detroit Lakes\, Minnesota. The Lodge has always featured the best in regional music entertainment. Top performers join us \nSeveral times during the year in our Fireside Lobby. Whether you are in town as a Lodge guest\, or you are a ‘local’ looking for a casual place to relax with friends\, your favorite drink and a beautiful view\, you’ll find “Summer Thursday at The Lodge” is the place to be on August 8th.
URL:http://thelodgeonlakedetroit.com/event/live-at-the-lodge-august-08-2019/
CATEGORIES:All Lodge Events,Live at The Lodge
ATTACH;FMTTYPE=image/jpeg:http://thelodgeonlakedetroit.com/wp-content/uploads/2019/07/dpc-notes-music-with-musicians-06-2015-02-1400x800.jpg
END:VEVENT
BEGIN:VEVENT
DTSTART;TZID=UTC:20190725T170000
DTEND;TZID=UTC:20190725T200000
DTSTAMP:20260423T175155
CREATED:20190723T152927Z
LAST-MODIFIED:20190813T031936Z
UID:146-1564074000-1564084800@thelodgeonlakedetroit.com
SUMMARY:David Ferreira Trio
DESCRIPTION:Upcoming Events at The Lodge\nSummer Thursdays at The Lodge\nFeaturing:\nJazz Duo: David Ferreira Trio (piano & vocals)\,\nJeremy Cahill (bass)  & Roger Gress (drums) \nThursday\, July 25\, 2019 5-8 P.M. \nNo cover charge. Drinks & food/appetizers available for purchase from LoLaD’s lobby bar. Open to guests & the public \n[av_image src=’http://thelodgeonlakedetroit.com/wp-content/uploads/2019/07/DaveFerreiraTrio-wRussPeterso08-1000×667-300×197.jpg’ attachment=’153′ attachment_size=’full’ align=’center’ styling=” hover=” link=” target=” caption=” font_size=” appearance=” overlay_opacity=’0.4′ overlay_color=’#000000′ overlay_text_color=’#ffffff’ copyright=” animation=’no-animation’ av_uid=” custom_class=” admin_preview_bg=”][/av_image] \nEnjoy the best of Detroit Lakes Live Music at The Best Western Premier Lodge on Lake Detroit on Thursday\, July 25\, 2019 from 5-8 p.m. in the beautiful Fireside Lobby in Detroit Lakes\, Minnesota. The Lodge has always featured the best in regional music entertainment. Top performers join us \nseveral times during the year in our Fireside Lobby. Whether you are in town as a Lodge guest\, or you are a ‘local’ looking for a casual place to relax with friends\, your favorite drink and a beautiful view\, you’ll find “Summer Thursday at The Lodge” is the place to be on July 25th.
URL:http://thelodgeonlakedetroit.com/event/live-at-the-lodge-july-25-2019/
CATEGORIES:All Lodge Events,Live at The Lodge
END:VEVENT
END:VCALENDAR